BEGIN:VCALENDAR
PRODID:-//github.com/rianjs/ical.net//NONSGML ical.net 4.0//EN
VERSION:2.0
BEGIN:VTIMEZONE
TZID:Eastern Standard Time
X-LIC-LOCATION:America/New_York
BEGIN:STANDARD
DTSTART:20241103T020000
RRULE:FREQ=YEARLY;BYDAY=1SU;BYMONTH=11
TZNAME:EST
TZOFFSETFROM:-0400
TZOFFSETTO:-0500
END:STANDARD
BEGIN:DAYLIGHT
DTSTART:20250309T020000
RRULE:FREQ=YEARLY;BYDAY=2SU;BYMONTH=3
TZNAME:EDT
TZOFFSETFROM:-0500
TZOFFSETTO:-0400
END:DAYLIGHT
END:VTIMEZONE
BEGIN:VEVENT
DESCRIPTION:IFFA Certification Course for C-Store Management
DTEND;TZID=Eastern Standard Time;VALUE=DATE:20260925
DTSTAMP:20260422T213454Z
DTSTART;TZID=Eastern Standard Time;VALUE=DATE:20260924
LOCATION:IN Food & Fuel Association Office 8720 Castle Creek Parkway East 
 Drive Suite 121 Indianapolis\, IN 46250 United States
ORGANIZER;CN=;SENT-BY="mailto:":
SEQUENCE:0
SUMMARY:IFFA: IFFA C-Store Management Certification Course
UID:e5833cf6-22e1-4485-8484-df28187ed703
END:VEVENT
END:VCALENDAR
